BEGIN:VCALENDAR
VERSION:2.0
PRODID:-//Eesti Mänguteraapia Akadeemia - ECPv6.15.20//NONSGML v1.0//EN
CALSCALE:GREGORIAN
METHOD:PUBLISH
X-WR-CALNAME:Eesti Mänguteraapia Akadeemia
X-ORIGINAL-URL:https://manguteraapia.ee
X-WR-CALDESC:Events for Eesti Mänguteraapia Akadeemia
REFRESH-INTERVAL;VALUE=DURATION:PT1H
X-Robots-Tag:noindex
X-PUBLISHED-TTL:PT1H
BEGIN:VTIMEZONE
TZID:Europe/Tallinn
BEGIN:DAYLIGHT
TZOFFSETFROM:+0200
TZOFFSETTO:+0300
TZNAME:EEST
DTSTART:20250330T010000
END:DAYLIGHT
BEGIN:STANDARD
TZOFFSETFROM:+0300
TZOFFSETTO:+0200
TZNAME:EET
DTSTART:20251026T010000
END:STANDARD
BEGIN:DAYLIGHT
TZOFFSETFROM:+0200
TZOFFSETTO:+0300
TZNAME:EEST
DTSTART:20260329T010000
END:DAYLIGHT
BEGIN:STANDARD
TZOFFSETFROM:+0300
TZOFFSETTO:+0200
TZNAME:EET
DTSTART:20261025T010000
END:STANDARD
BEGIN:DAYLIGHT
TZOFFSETFROM:+0200
TZOFFSETTO:+0300
TZNAME:EEST
DTSTART:20270328T010000
END:DAYLIGHT
BEGIN:STANDARD
TZOFFSETFROM:+0300
TZOFFSETTO:+0200
TZNAME:EET
DTSTART:20271031T010000
END:STANDARD
END:VTIMEZONE
BEGIN:VEVENT
DTSTART;TZID=Europe/Tallinn:20260504T100000
DTEND;TZID=Europe/Tallinn:20260504T160000
DTSTAMP:20260425T193856
CREATED:20260128T104544Z
LAST-MODIFIED:20260128T104544Z
UID:20111-1777888800-1777910400@manguteraapia.ee
SUMMARY:Ärevus ja metafoorkaardid
DESCRIPTION:
URL:https://manguteraapia.ee/syndmus/arevus-ja-metafoorkaardid/
END:VEVENT
BEGIN:VEVENT
DTSTART;TZID=Europe/Tallinn:20260506T150000
DTEND;TZID=Europe/Tallinn:20260506T183000
DTSTAMP:20260425T193856
CREATED:20260128T105431Z
LAST-MODIFIED:20260128T105431Z
UID:20126-1778079600-1778092200@manguteraapia.ee
SUMMARY:M III
DESCRIPTION:
URL:https://manguteraapia.ee/syndmus/m-iii-7/
END:VEVENT
BEGIN:VEVENT
DTSTART;TZID=Europe/Tallinn:20260507T100000
DTEND;TZID=Europe/Tallinn:20260508T160000
DTSTAMP:20260425T193856
CREATED:20260216T103933Z
LAST-MODIFIED:20260216T103933Z
UID:20145-1778148000-1778256000@manguteraapia.ee
SUMMARY:MT26 Sissejuhatus
DESCRIPTION:
URL:https://manguteraapia.ee/syndmus/mt26-sissejuhatus/
END:VEVENT
BEGIN:VEVENT
DTSTART;TZID=Europe/Tallinn:20260514T100000
DTEND;TZID=Europe/Tallinn:20260515T160000
DTSTAMP:20260425T193856
CREATED:20251104T085833Z
LAST-MODIFIED:20251104T085833Z
UID:20069-1778752800-1778860800@manguteraapia.ee
SUMMARY:M25 Terapeutilised suhtlemisoskused II
DESCRIPTION:
URL:https://manguteraapia.ee/syndmus/m25-terapeutilised-suhtlemisoskused-ii/
END:VEVENT
BEGIN:VEVENT
DTSTART;TZID=Europe/Tallinn:20260520T150000
DTEND;TZID=Europe/Tallinn:20260520T183000
DTSTAMP:20260425T193856
CREATED:20260128T105503Z
LAST-MODIFIED:20260128T105503Z
UID:20128-1779289200-1779301800@manguteraapia.ee
SUMMARY:M III
DESCRIPTION:
URL:https://manguteraapia.ee/syndmus/m-iii-8/
END:VEVENT
END:VCALENDAR