BEGIN:VCALENDAR
VERSION:2.0
PRODID:-//Eesti Mänguteraapia Akadeemia - ECPv6.15.20//NONSGML v1.0//EN
CALSCALE:GREGORIAN
METHOD:PUBLISH
X-ORIGINAL-URL:https://manguteraapia.ee
X-WR-CALDESC:Events for Eesti Mänguteraapia Akadeemia
REFRESH-INTERVAL;VALUE=DURATION:PT1H
X-Robots-Tag:noindex
X-PUBLISHED-TTL:PT1H
BEGIN:VTIMEZONE
TZID:Europe/Tallinn
BEGIN:DAYLIGHT
TZOFFSETFROM:+0200
TZOFFSETTO:+0300
TZNAME:EEST
DTSTART:20250330T010000
END:DAYLIGHT
BEGIN:STANDARD
TZOFFSETFROM:+0300
TZOFFSETTO:+0200
TZNAME:EET
DTSTART:20251026T010000
END:STANDARD
BEGIN:DAYLIGHT
TZOFFSETFROM:+0200
TZOFFSETTO:+0300
TZNAME:EEST
DTSTART:20260329T010000
END:DAYLIGHT
BEGIN:STANDARD
TZOFFSETFROM:+0300
TZOFFSETTO:+0200
TZNAME:EET
DTSTART:20261025T010000
END:STANDARD
BEGIN:DAYLIGHT
TZOFFSETFROM:+0200
TZOFFSETTO:+0300
TZNAME:EEST
DTSTART:20270328T010000
END:DAYLIGHT
BEGIN:STANDARD
TZOFFSETFROM:+0300
TZOFFSETTO:+0200
TZNAME:EET
DTSTART:20271031T010000
END:STANDARD
END:VTIMEZONE
BEGIN:VEVENT
DTSTART;TZID=Europe/Tallinn:20260304T150000
DTEND;TZID=Europe/Tallinn:20260304T183000
DTSTAMP:20260425T194015
CREATED:20260128T104234Z
LAST-MODIFIED:20260128T104234Z
UID:20107-1772636400-1772649000@manguteraapia.ee
SUMMARY:MT ja LGBT+
DESCRIPTION:
URL:https://manguteraapia.ee/syndmus/mt-ja-lgbt/
END:VEVENT
BEGIN:VEVENT
DTSTART;TZID=Europe/Tallinn:20260311T150000
DTEND;TZID=Europe/Tallinn:20260311T183000
DTSTAMP:20260425T194015
CREATED:20260128T105203Z
LAST-MODIFIED:20260128T105203Z
UID:20118-1773241200-1773253800@manguteraapia.ee
SUMMARY:M III
DESCRIPTION:
URL:https://manguteraapia.ee/syndmus/m-iii-3/
END:VEVENT
BEGIN:VEVENT
DTSTART;TZID=Europe/Tallinn:20260319T100000
DTEND;TZID=Europe/Tallinn:20260320T160000
DTSTAMP:20260425T194015
CREATED:20251104T085207Z
LAST-MODIFIED:20251104T085207Z
UID:20060-1773914400-1774022400@manguteraapia.ee
SUMMARY:MT25 Maskid\, käpiknukud
DESCRIPTION:
URL:https://manguteraapia.ee/syndmus/mt25-maskid-kapiknukud/
END:VEVENT
BEGIN:VEVENT
DTSTART;TZID=Europe/Tallinn:20260321T100000
DTEND;TZID=Europe/Tallinn:20260322T160000
DTSTAMP:20260425T194015
CREATED:20251104T085611Z
LAST-MODIFIED:20251104T085611Z
UID:20065-1774087200-1774195200@manguteraapia.ee
SUMMARY:MT25 Liiv ja savi
DESCRIPTION:
URL:https://manguteraapia.ee/syndmus/mt25-liiv-ja-savi/
END:VEVENT
BEGIN:VEVENT
DTSTART;TZID=Europe/Tallinn:20260325T150000
DTEND;TZID=Europe/Tallinn:20260325T183000
DTSTAMP:20260425T194015
CREATED:20260128T105240Z
LAST-MODIFIED:20260128T105240Z
UID:20120-1774450800-1774463400@manguteraapia.ee
SUMMARY:M III
DESCRIPTION:
URL:https://manguteraapia.ee/syndmus/m-iii-4/
END:VEVENT
END:VCALENDAR