BEGIN:VCALENDAR
VERSION:2.0
PRODID:-//Eesti Mänguteraapia Akadeemia - ECPv6.15.20//NONSGML v1.0//EN
CALSCALE:GREGORIAN
METHOD:PUBLISH
X-WR-CALNAME:Eesti Mänguteraapia Akadeemia
X-ORIGINAL-URL:https://manguteraapia.ee
X-WR-CALDESC:Events for Eesti Mänguteraapia Akadeemia
REFRESH-INTERVAL;VALUE=DURATION:PT1H
X-Robots-Tag:noindex
X-PUBLISHED-TTL:PT1H
BEGIN:VTIMEZONE
TZID:Europe/Tallinn
BEGIN:DAYLIGHT
TZOFFSETFROM:+0200
TZOFFSETTO:+0300
TZNAME:EEST
DTSTART:20250330T010000
END:DAYLIGHT
BEGIN:STANDARD
TZOFFSETFROM:+0300
TZOFFSETTO:+0200
TZNAME:EET
DTSTART:20251026T010000
END:STANDARD
BEGIN:DAYLIGHT
TZOFFSETFROM:+0200
TZOFFSETTO:+0300
TZNAME:EEST
DTSTART:20260329T010000
END:DAYLIGHT
BEGIN:STANDARD
TZOFFSETFROM:+0300
TZOFFSETTO:+0200
TZNAME:EET
DTSTART:20261025T010000
END:STANDARD
BEGIN:DAYLIGHT
TZOFFSETFROM:+0200
TZOFFSETTO:+0300
TZNAME:EEST
DTSTART:20270328T010000
END:DAYLIGHT
BEGIN:STANDARD
TZOFFSETFROM:+0300
TZOFFSETTO:+0200
TZNAME:EET
DTSTART:20271031T010000
END:STANDARD
END:VTIMEZONE
BEGIN:VEVENT
DTSTART;TZID=Europe/Tallinn:20260211T150000
DTEND;TZID=Europe/Tallinn:20260211T183000
DTSTAMP:20260425T212712
CREATED:20260128T105051Z
LAST-MODIFIED:20260128T105051Z
UID:20114-1770822000-1770834600@manguteraapia.ee
SUMMARY:M III
DESCRIPTION:
URL:https://manguteraapia.ee/syndmus/m-iii/
END:VEVENT
BEGIN:VEVENT
DTSTART;VALUE=DATE:20260212
DTEND;VALUE=DATE:20260214
DTSTAMP:20260425T212712
CREATED:20250903T064522Z
LAST-MODIFIED:20250903T064522Z
UID:19999-1770854400-1771027199@manguteraapia.ee
SUMMARY:M25 Terapeutiline suhtlemine II
DESCRIPTION:
URL:https://manguteraapia.ee/syndmus/m25-terapeutiline-suhtlemine-ii/
END:VEVENT
BEGIN:VEVENT
DTSTART;TZID=Europe/Tallinn:20260220T100000
DTEND;TZID=Europe/Tallinn:20260221T160000
DTSTAMP:20260425T212712
CREATED:20251104T084951Z
LAST-MODIFIED:20251104T084951Z
UID:20058-1771581600-1771689600@manguteraapia.ee
SUMMARY:MT24 Legod ja lauamängud
DESCRIPTION:
URL:https://manguteraapia.ee/syndmus/mt24-legod-ja-lauamangud/
END:VEVENT
BEGIN:VEVENT
DTSTART;TZID=Europe/Tallinn:20260225T150000
DTEND;TZID=Europe/Tallinn:20260225T183000
DTSTAMP:20260425T212712
CREATED:20260128T105120Z
LAST-MODIFIED:20260128T105120Z
UID:20116-1772031600-1772044200@manguteraapia.ee
SUMMARY:M III
DESCRIPTION:
URL:https://manguteraapia.ee/syndmus/m-iii-2/
END:VEVENT
END:VCALENDAR