BEGIN:VCALENDAR
VERSION:2.0
PRODID:-//Eesti Mänguteraapia Akadeemia - ECPv6.15.20//NONSGML v1.0//EN
CALSCALE:GREGORIAN
METHOD:PUBLISH
X-WR-CALNAME:Eesti Mänguteraapia Akadeemia
X-ORIGINAL-URL:https://manguteraapia.ee
X-WR-CALDESC:Events for Eesti Mänguteraapia Akadeemia
REFRESH-INTERVAL;VALUE=DURATION:PT1H
X-Robots-Tag:noindex
X-PUBLISHED-TTL:PT1H
BEGIN:VTIMEZONE
TZID:Europe/Tallinn
BEGIN:DAYLIGHT
TZOFFSETFROM:+0200
TZOFFSETTO:+0300
TZNAME:EEST
DTSTART:20250330T010000
END:DAYLIGHT
BEGIN:STANDARD
TZOFFSETFROM:+0300
TZOFFSETTO:+0200
TZNAME:EET
DTSTART:20251026T010000
END:STANDARD
BEGIN:DAYLIGHT
TZOFFSETFROM:+0200
TZOFFSETTO:+0300
TZNAME:EEST
DTSTART:20260329T010000
END:DAYLIGHT
BEGIN:STANDARD
TZOFFSETFROM:+0300
TZOFFSETTO:+0200
TZNAME:EET
DTSTART:20261025T010000
END:STANDARD
BEGIN:DAYLIGHT
TZOFFSETFROM:+0200
TZOFFSETTO:+0300
TZNAME:EEST
DTSTART:20270328T010000
END:DAYLIGHT
BEGIN:STANDARD
TZOFFSETFROM:+0300
TZOFFSETTO:+0200
TZNAME:EET
DTSTART:20271031T010000
END:STANDARD
END:VTIMEZONE
BEGIN:VEVENT
DTSTART;TZID=Europe/Tallinn:20260420T100000
DTEND;TZID=Europe/Tallinn:20260421T160000
DTSTAMP:20260421T125801
CREATED:20251104T085703Z
LAST-MODIFIED:20251104T085703Z
UID:20067-1776679200-1776787200@manguteraapia.ee
SUMMARY:M25 Referaadid
DESCRIPTION:
URL:https://manguteraapia.ee/syndmus/m25-referaadid/
END:VEVENT
BEGIN:VEVENT
DTSTART;TZID=Europe/Tallinn:20260422T150000
DTEND;TZID=Europe/Tallinn:20260422T183000
DTSTAMP:20260421T125801
CREATED:20260128T105359Z
LAST-MODIFIED:20260128T105359Z
UID:20124-1776870000-1776882600@manguteraapia.ee
SUMMARY:M III
DESCRIPTION:
URL:https://manguteraapia.ee/syndmus/m-iii-6/
END:VEVENT
END:VCALENDAR